Package: atSNP Version: 1.23.0 Command: /Library/Frameworks/R.framework/Resources/bin/R CMD INSTALL atSNP StartedAt: 2025-02-20 15:27:25 -0500 (Thu, 20 Feb 2025) EndedAt: 2025-02-20 15:28:41 -0500 (Thu, 20 Feb 2025) EllapsedTime: 76.6 seconds RetCode: 0 Status: OK