Package: atSNP Version: 1.23.0 Command: /Library/Frameworks/R.framework/Resources/bin/R CMD build --keep-empty-dirs --no-resave-data atSNP StartedAt: 2025-02-20 15:53:28 -0500 (Thu, 20 Feb 2025) EndedAt: 2025-02-20 15:54:54 -0500 (Thu, 20 Feb 2025) EllapsedTime: 85.6 seconds RetCode: 0 Status: OK PackageFile: atSNP_1.23.0.tar.gz PackageFileSize: 1.029 MiB