Package: atSNP Version: 1.23.0 Command: /Library/Frameworks/R.framework/Resources/bin/R CMD check --install=check:atSNP.install-out.txt --library=/Library/Frameworks/R.framework/Resources/library --no-vignettes --timings atSNP_1.23.0.tar.gz StartedAt: 2025-02-19 18:06:55 -0500 (Wed, 19 Feb 2025) EndedAt: 2025-02-19 18:09:18 -0500 (Wed, 19 Feb 2025) EllapsedTime: 143.7 seconds RetCode: 0 Status: OK CheckDir: atSNP.Rcheck Warnings: 0