Package: atSNP Version: 1.23.0 Command: /Library/Frameworks/R.framework/Resources/bin/R CMD build --keep-empty-dirs --no-resave-data atSNP StartedAt: 2025-02-19 15:34:58 -0500 (Wed, 19 Feb 2025) EndedAt: 2025-02-19 15:35:31 -0500 (Wed, 19 Feb 2025) EllapsedTime: 32.3 seconds RetCode: 0 Status: OK PackageFile: atSNP_1.23.0.tar.gz PackageFileSize: 1.029 MiB