Package: assorthead Version: 1.1.14 Command: chmod a+r assorthead -R && E:\biocbuild\bbs-3.21-bioc\R\bin\R.exe CMD build --keep-empty-dirs --no-resave-data assorthead StartedAt: 2025-02-20 17:17:50 -0500 (Thu, 20 Feb 2025) EndedAt: 2025-02-20 17:19:10 -0500 (Thu, 20 Feb 2025) EllapsedTime: 80.5 seconds RetCode: 0 Status: OK PackageFile: assorthead_1.1.14.tar.gz PackageFileSize: 1.738 MiB