Package: assorthead Version: 1.1.13 Command: /home/biocbuild/R/R/bin/R CMD INSTALL assorthead StartedAt: 2025-01-29 19:29:28 -0000 (Wed, 29 Jan 2025) EndedAt: 2025-01-29 19:29:43 -0000 (Wed, 29 Jan 2025) EllapsedTime: 15.2 seconds RetCode: 0 Status: OK