Package: artMS Version: 1.25.0 Command: /home/biocbuild/bbs-3.21-bioc/R/bin/R CMD INSTALL artMS StartedAt: 2025-02-17 15:24:46 -0500 (Mon, 17 Feb 2025) EndedAt: 2025-02-17 15:25:15 -0500 (Mon, 17 Feb 2025) EllapsedTime: 28.7 seconds RetCode: 0 Status: OK