Package: artMS Version: 1.25.0 Command: /home/biocbuild/bbs-3.21-bioc/R/bin/R CMD check --install=check:artMS.install-out.txt --library=/home/biocbuild/bbs-3.21-bioc/R/site-library --timings artMS_1.25.0.tar.gz StartedAt: 2025-02-17 19:54:45 -0500 (Mon, 17 Feb 2025) EndedAt: 2025-02-17 19:57:54 -0500 (Mon, 17 Feb 2025) EllapsedTime: 189.4 seconds RetCode: 0 Status: OK CheckDir: artMS.Rcheck Warnings: 0