Package: artMS Version: 1.25.0 Command: /home/biocbuild/bbs-3.21-bioc/R/bin/R CMD build --keep-empty-dirs --no-resave-data artMS StartedAt: 2025-02-17 16:08:09 -0500 (Mon, 17 Feb 2025) EndedAt: 2025-02-17 16:08:59 -0500 (Mon, 17 Feb 2025) EllapsedTime: 50.0 seconds RetCode: 0 Status: OK PackageFile: artMS_1.25.0.tar.gz PackageFileSize: 3.978 MiB