Package: artMS Version: 1.25.0 Command: /Library/Frameworks/R.framework/Resources/bin/R CMD INSTALL artMS StartedAt: 2025-02-17 15:26:54 -0500 (Mon, 17 Feb 2025) EndedAt: 2025-02-17 15:27:06 -0500 (Mon, 17 Feb 2025) EllapsedTime: 11.7 seconds RetCode: 0 Status: OK