Package: arrayQualityMetrics Version: 3.63.0 Command: E:\biocbuild\bbs-3.21-bioc\R\bin\R.exe CMD INSTALL arrayQualityMetrics StartedAt: 2025-02-19 16:30:57 -0500 (Wed, 19 Feb 2025) EndedAt: 2025-02-19 16:31:53 -0500 (Wed, 19 Feb 2025) EllapsedTime: 56.0 seconds RetCode: 0 Status: OK