Package: arrayQualityMetrics Version: 3.64.0 Command: /Library/Frameworks/R.framework/Resources/bin/R CMD INSTALL arrayQualityMetrics StartedAt: 2025-09-29 15:52:58 -0400 (Mon, 29 Sep 2025) EndedAt: 2025-09-29 15:53:56 -0400 (Mon, 29 Sep 2025) EllapsedTime: 58.0 seconds RetCode: 0 Status: OK