Package: arrayQualityMetrics Version: 3.63.0 Command: /Library/Frameworks/R.framework/Resources/bin/R CMD check --install=check:arrayQualityMetrics.install-out.txt --library=/Library/Frameworks/R.framework/Resources/library --no-vignettes --timings arrayQualityMetrics_3.63.0.tar.gz StartedAt: 2025-02-19 18:52:10 -0500 (Wed, 19 Feb 2025) EndedAt: 2025-02-19 18:54:53 -0500 (Wed, 19 Feb 2025) EllapsedTime: 162.5 seconds RetCode: 0 Status: OK CheckDir: arrayQualityMetrics.Rcheck Warnings: 0