Package: arrayQualityMetrics Version: 3.63.0 Command: /Library/Frameworks/R.framework/Resources/bin/R CMD INSTALL arrayQualityMetrics StartedAt: 2025-02-18 15:20:06 -0500 (Tue, 18 Feb 2025) EndedAt: 2025-02-18 15:20:16 -0500 (Tue, 18 Feb 2025) EllapsedTime: 10.2 seconds RetCode: 0 Status: OK