Package: arrayQuality Version: 1.85.0 Command: rm -rf arrayQuality.buildbin-libdir && mkdir arrayQuality.buildbin-libdir && /Users/biocbuild/BBS/utils/build-universal.sh arrayQuality_1.85.0.tar.gz /Library/Frameworks/R.framework/Resources/bin/R arrayQuality.buildbin-libdir StartedAt: 2025-02-21 00:19:20 -0500 (Fri, 21 Feb 2025) EndedAt: 2025-02-21 00:19:37 -0500 (Fri, 21 Feb 2025) EllapsedTime: 17.5 seconds RetCode: 0 Status: OK PackageFile: arrayQuality_1.85.0.tgz PackageFileSize: 12.17 MiB