Package: arrayQuality Version: 1.86.0 Command: /Library/Frameworks/R.framework/Resources/bin/R CMD INSTALL arrayQuality StartedAt: 2025-10-06 15:13:05 -0400 (Mon, 06 Oct 2025) EndedAt: 2025-10-06 15:13:12 -0400 (Mon, 06 Oct 2025) EllapsedTime: 7.0 seconds RetCode: 0 Status: OK