Package: arrayQuality Version: 1.86.0 Command: /Library/Frameworks/R.framework/Resources/bin/R CMD build --keep-empty-dirs --no-resave-data arrayQuality StartedAt: 2025-10-06 19:18:51 -0400 (Mon, 06 Oct 2025) EndedAt: 2025-10-06 19:19:04 -0400 (Mon, 06 Oct 2025) EllapsedTime: 12.3 seconds RetCode: 0 Status: OK PackageFile: arrayQuality_1.86.0.tar.gz PackageFileSize: 12.82 MiB