Package: arrayMvout Version: 1.65.0 Command: E:\biocbuild\bbs-3.21-bioc\R\bin\R.exe CMD INSTALL arrayMvout StartedAt: 2025-02-21 17:39:32 -0500 (Fri, 21 Feb 2025) EndedAt: 2025-02-21 17:40:30 -0500 (Fri, 21 Feb 2025) EllapsedTime: 57.9 seconds RetCode: 0 Status: OK