Package: arrayMvout Version: 1.65.0 Command: E:\biocbuild\bbs-3.21-bioc\R\bin\R.exe CMD check --no-multiarch --install=check:arrayMvout.install-out.txt --library=E:\biocbuild\bbs-3.21-bioc\R\library --no-vignettes --timings arrayMvout_1.65.0.tar.gz StartedAt: 2025-02-21 23:22:33 -0500 (Fri, 21 Feb 2025) EndedAt: 2025-02-21 23:28:32 -0500 (Fri, 21 Feb 2025) EllapsedTime: 358.9 seconds RetCode: 0 Status: OK CheckDir: arrayMvout.Rcheck Warnings: 0