Package: arrayMvout Version: 1.65.0 Command: /Library/Frameworks/R.framework/Resources/bin/R CMD INSTALL arrayMvout StartedAt: 2025-02-20 15:28:00 -0500 (Thu, 20 Feb 2025) EndedAt: 2025-02-20 15:28:19 -0500 (Thu, 20 Feb 2025) EllapsedTime: 19.5 seconds RetCode: 0 Status: OK