Package: arrayMvout Version: 1.66.0 Command: /Library/Frameworks/R.framework/Resources/bin/R CMD INSTALL arrayMvout StartedAt: 2025-10-02 18:37:43 -0400 (Thu, 02 Oct 2025) EndedAt: 2025-10-02 18:38:41 -0400 (Thu, 02 Oct 2025) EllapsedTime: 57.5 seconds RetCode: 0 Status: OK