Package: arrayMvout Version: 1.66.0 Command: /Library/Frameworks/R.framework/Resources/bin/R CMD build --keep-empty-dirs --no-resave-data arrayMvout StartedAt: 2025-10-02 19:10:13 -0400 (Thu, 02 Oct 2025) EndedAt: 2025-10-02 19:11:34 -0400 (Thu, 02 Oct 2025) EllapsedTime: 80.9 seconds RetCode: 0 Status: OK PackageFile: arrayMvout_1.66.0.tar.gz PackageFileSize: 692.7 KiB