Package: arrayMvout Version: 1.66.0 Command: rm -rf arrayMvout.buildbin-libdir && mkdir arrayMvout.buildbin-libdir && /Users/biocbuild/BBS/utils/build-universal.sh arrayMvout_1.66.0.tar.gz /Library/Frameworks/R.framework/Resources/bin/R arrayMvout.buildbin-libdir StartedAt: 2025-10-04 16:55:18 -0400 (Sat, 04 Oct 2025) EndedAt: 2025-10-04 16:56:22 -0400 (Sat, 04 Oct 2025) EllapsedTime: 63.9 seconds RetCode: 0 Status: OK PackageFile: arrayMvout_1.66.0.tgz PackageFileSize: 857.5 KiB