Package: aroma.light Version: 3.37.0 Command: E:\biocbuild\bbs-3.21-bioc\R\bin\R.exe CMD INSTALL aroma.light StartedAt: 2025-02-20 15:21:16 -0500 (Thu, 20 Feb 2025) EndedAt: 2025-02-20 15:22:00 -0500 (Thu, 20 Feb 2025) EllapsedTime: 44.1 seconds RetCode: 0 Status: OK