Package: aroma.light Version: 3.37.0 Command: /Library/Frameworks/R.framework/Resources/bin/R CMD INSTALL aroma.light StartedAt: 2025-02-20 15:06:11 -0500 (Thu, 20 Feb 2025) EndedAt: 2025-02-20 15:06:36 -0500 (Thu, 20 Feb 2025) EllapsedTime: 24.5 seconds RetCode: 0 Status: OK