Package: appreci8R Version: 1.25.0 Command: E:\biocbuild\bbs-3.21-bioc\R\bin\R.exe CMD INSTALL appreci8R StartedAt: 2025-02-19 16:54:36 -0500 (Wed, 19 Feb 2025) EndedAt: 2025-02-19 16:56:21 -0500 (Wed, 19 Feb 2025) EllapsedTime: 105.8 seconds RetCode: 0 Status: OK