Package: appreci8R Version: 1.25.0 Command: /home/biocbuild/bbs-3.21-bioc/R/bin/R CMD INSTALL appreci8R StartedAt: 2025-02-19 15:57:32 -0500 (Wed, 19 Feb 2025) EndedAt: 2025-02-19 15:58:50 -0500 (Wed, 19 Feb 2025) EllapsedTime: 78.0 seconds RetCode: 0 Status: OK