Package: appreci8R Version: 1.25.0 Command: /Library/Frameworks/R.framework/Resources/bin/R CMD check --install=check:appreci8R.install-out.txt --library=/Library/Frameworks/R.framework/Resources/library --no-vignettes --timings appreci8R_1.25.0.tar.gz StartedAt: 2025-02-19 18:05:08 -0500 (Wed, 19 Feb 2025) EndedAt: 2025-02-19 18:07:25 -0500 (Wed, 19 Feb 2025) EllapsedTime: 136.8 seconds RetCode: 0 Status: OK CheckDir: appreci8R.Rcheck Warnings: 0