Package: apComplex Version: 2.73.0 Command: chmod a+r apComplex -R && E:\biocbuild\bbs-3.21-bioc\R\bin\R.exe CMD build --keep-empty-dirs --no-resave-data apComplex StartedAt: 2025-02-20 17:16:06 -0500 (Thu, 20 Feb 2025) EndedAt: 2025-02-20 17:16:43 -0500 (Thu, 20 Feb 2025) EllapsedTime: 37.4 seconds RetCode: 0 Status: OK PackageFile: apComplex_2.73.0.tar.gz PackageFileSize: 628.5 KiB