Package: apComplex Version: 2.73.0 Command: rm -rf apComplex.buildbin-libdir && mkdir apComplex.buildbin-libdir && E:\biocbuild\bbs-3.21-bioc\R\bin\R.exe CMD INSTALL --build --library=apComplex.buildbin-libdir apComplex_2.73.0.tar.gz StartedAt: 2025-02-21 07:33:43 -0500 (Fri, 21 Feb 2025) EndedAt: 2025-02-21 07:34:05 -0500 (Fri, 21 Feb 2025) EllapsedTime: 22.1 seconds RetCode: 0 Status: OK PackageFile: apComplex_2.73.0.zip PackageFileSize: 692.1 KiB