Package: apComplex Version: 2.73.0 Command: /home/biocbuild/bbs-3.21-bioc/R/bin/R CMD INSTALL apComplex StartedAt: 2025-02-20 15:41:40 -0500 (Thu, 20 Feb 2025) EndedAt: 2025-02-20 15:41:41 -0500 (Thu, 20 Feb 2025) EllapsedTime: 0.3 seconds RetCode: 1 Status: ERROR