Package: apComplex Version: 2.73.0 Command: /home/biocbuild/bbs-3.21-bioc/R/bin/R CMD check --install=check:apComplex.install-out.txt --library=/home/biocbuild/bbs-3.21-bioc/R/site-library --timings apComplex_2.73.0.tar.gz StartedAt: 2025-02-19 19:58:23 -0500 (Wed, 19 Feb 2025) EndedAt: 2025-02-19 20:00:12 -0500 (Wed, 19 Feb 2025) EllapsedTime: 108.3 seconds RetCode: 0 Status: OK CheckDir: apComplex.Rcheck Warnings: 0