############################################################################## ############################################################################## ### ### Running command: ### ### /home/biocbuild/bbs-3.21-bioc/R/bin/R CMD build --keep-empty-dirs --no-resave-data apComplex ### ############################################################################## ############################################################################## * checking for file ‘apComplex/DESCRIPTION’ ... OK * preparing ‘apComplex’: * checking DESCRIPTION meta-information ... OK * installing the package to build vignettes ----------------------------------- ERROR: dependency ‘Rgraphviz’ is not available for package ‘apComplex’ Perhaps try a variation of: install.packages('Rgraphviz') * removing ‘/tmp/RtmphK7I9Q/Rinst10daff2db0f9c2/apComplex’ ----------------------------------- ERROR: package installation failed