Package: apComplex Version: 2.73.0 Command: rm -rf apComplex.buildbin-libdir && mkdir apComplex.buildbin-libdir && /Users/biocbuild/BBS/utils/build-universal.sh apComplex_2.73.0.tar.gz /Library/Frameworks/R.framework/Resources/bin/R apComplex.buildbin-libdir StartedAt: 2025-02-21 00:19:17 -0500 (Fri, 21 Feb 2025) EndedAt: 2025-02-21 00:19:39 -0500 (Fri, 21 Feb 2025) EllapsedTime: 22.2 seconds RetCode: 0 Status: OK PackageFile: apComplex_2.73.0.tgz PackageFileSize: 686.4 KiB