Package: apComplex Version: 2.73.0 Command: /home/biocbuild/R/R/bin/R CMD INSTALL apComplex StartedAt: 2025-01-29 19:53:22 -0000 (Wed, 29 Jan 2025) EndedAt: 2025-01-29 19:53:41 -0000 (Wed, 29 Jan 2025) EllapsedTime: 19.3 seconds RetCode: 0 Status: OK