Package: apComplex Version: 2.73.0 Command: /Library/Frameworks/R.framework/Resources/bin/R CMD INSTALL apComplex StartedAt: 2025-02-20 15:10:03 -0500 (Thu, 20 Feb 2025) EndedAt: 2025-02-20 15:10:09 -0500 (Thu, 20 Feb 2025) EllapsedTime: 5.7 seconds RetCode: 0 Status: OK