Package: apComplex Version: 2.73.0 Command: /Library/Frameworks/R.framework/Resources/bin/R CMD check --install=check:apComplex.install-out.txt --library=/Library/Frameworks/R.framework/Resources/library --no-vignettes --timings apComplex_2.73.0.tar.gz StartedAt: 2025-02-21 18:39:49 -0500 (Fri, 21 Feb 2025) EndedAt: 2025-02-21 18:40:31 -0500 (Fri, 21 Feb 2025) EllapsedTime: 42.6 seconds RetCode: 0 Status: OK CheckDir: apComplex.Rcheck Warnings: 0