Package: antiProfiles Version: 1.47.0 Command: chmod a+r antiProfiles -R && E:\biocbuild\bbs-3.21-bioc\R\bin\R.exe CMD build --keep-empty-dirs --no-resave-data antiProfiles StartedAt: 2025-02-20 17:15:05 -0500 (Thu, 20 Feb 2025) EndedAt: 2025-02-20 17:15:43 -0500 (Thu, 20 Feb 2025) EllapsedTime: 37.6 seconds RetCode: 0 Status: OK PackageFile: antiProfiles_1.47.0.tar.gz PackageFileSize: 110.3 KiB