Package: antiProfiles Version: 1.47.0 Command: /home/biocbuild/bbs-3.21-bioc/R/bin/R CMD INSTALL antiProfiles StartedAt: 2025-02-20 15:05:39 -0500 (Thu, 20 Feb 2025) EndedAt: 2025-02-20 15:05:43 -0500 (Thu, 20 Feb 2025) EllapsedTime: 4.2 seconds RetCode: 0 Status: OK