Package: antiProfiles Version: 1.47.0 Command: /Library/Frameworks/R.framework/Resources/bin/R CMD build --keep-empty-dirs --no-resave-data antiProfiles StartedAt: 2025-02-20 15:52:24 -0500 (Thu, 20 Feb 2025) EndedAt: 2025-02-20 15:52:37 -0500 (Thu, 20 Feb 2025) EllapsedTime: 12.5 seconds RetCode: 0 Status: OK PackageFile: antiProfiles_1.47.0.tar.gz PackageFileSize: 110.8 KiB