Package: antiProfiles Version: 1.47.0 Command: rm -rf antiProfiles.buildbin-libdir && mkdir antiProfiles.buildbin-libdir && /Users/biocbuild/BBS/utils/build-universal.sh antiProfiles_1.47.0.tar.gz /Library/Frameworks/R.framework/Resources/bin/R antiProfiles.buildbin-libdir StartedAt: 2025-02-21 00:19:07 -0500 (Fri, 21 Feb 2025) EndedAt: 2025-02-21 00:19:14 -0500 (Fri, 21 Feb 2025) EllapsedTime: 6.7 seconds RetCode: 0 Status: OK PackageFile: antiProfiles_1.47.0.tgz PackageFileSize: 268.6 KiB