Package: anota2seq Version: 1.29.0 Command: E:\biocbuild\bbs-3.21-bioc\R\bin\R.exe CMD INSTALL anota2seq StartedAt: 2025-02-20 16:07:21 -0500 (Thu, 20 Feb 2025) EndedAt: 2025-02-20 16:08:20 -0500 (Thu, 20 Feb 2025) EllapsedTime: 59.0 seconds RetCode: 0 Status: OK