Package: anota2seq Version: 1.29.0 Command: /home/biocbuild/bbs-3.21-bioc/R/bin/R CMD INSTALL anota2seq StartedAt: 2025-02-20 15:29:45 -0500 (Thu, 20 Feb 2025) EndedAt: 2025-02-20 15:30:15 -0500 (Thu, 20 Feb 2025) EllapsedTime: 29.9 seconds RetCode: 0 Status: OK