Package: anota2seq Version: 1.29.0 Command: /home/biocbuild/bbs-3.21-bioc/R/bin/R CMD build --keep-empty-dirs --no-resave-data anota2seq StartedAt: 2025-02-20 16:26:07 -0500 (Thu, 20 Feb 2025) EndedAt: 2025-02-20 16:28:29 -0500 (Thu, 20 Feb 2025) EllapsedTime: 142.2 seconds RetCode: 0 Status: OK PackageFile: anota2seq_1.29.0.tar.gz PackageFileSize: 1.001 MiB