Package: anota2seq Version: 1.29.0 Command: /Library/Frameworks/R.framework/Resources/bin/R CMD build --keep-empty-dirs --no-resave-data anota2seq StartedAt: 2025-02-20 15:52:24 -0500 (Thu, 20 Feb 2025) EndedAt: 2025-02-20 15:55:00 -0500 (Thu, 20 Feb 2025) EllapsedTime: 155.6 seconds RetCode: 0 Status: OK PackageFile: anota2seq_1.29.0.tar.gz PackageFileSize: 972.5 KiB