Package: anota Version: 1.55.0 Command: /Library/Frameworks/R.framework/Resources/bin/R CMD INSTALL anota StartedAt: 2025-02-18 15:34:42 -0500 (Tue, 18 Feb 2025) EndedAt: 2025-02-18 15:34:55 -0500 (Tue, 18 Feb 2025) EllapsedTime: 12.7 seconds RetCode: 0 Status: OK