Package: anota Version: 1.55.0 Command: /Library/Frameworks/R.framework/Resources/bin/R CMD check --install=check:anota.install-out.txt --library=/Library/Frameworks/R.framework/Resources/library --no-vignettes --timings anota_1.55.0.tar.gz StartedAt: 2025-02-18 18:48:26 -0500 (Tue, 18 Feb 2025) EndedAt: 2025-02-18 18:49:49 -0500 (Tue, 18 Feb 2025) EllapsedTime: 83.6 seconds RetCode: 0 Status: OK CheckDir: anota.Rcheck Warnings: 0