Package: annotatr Version: 1.33.0 Command: E:\biocbuild\bbs-3.21-bioc\R\bin\R.exe CMD INSTALL annotatr StartedAt: 2025-02-20 16:27:39 -0500 (Thu, 20 Feb 2025) EndedAt: 2025-02-20 16:28:32 -0500 (Thu, 20 Feb 2025) EllapsedTime: 53.5 seconds RetCode: 0 Status: OK