Package: annotatr Version: 1.33.0 Command: rm -rf annotatr.buildbin-libdir && mkdir annotatr.buildbin-libdir && E:\biocbuild\bbs-3.21-bioc\R\bin\R.exe CMD INSTALL --build --library=annotatr.buildbin-libdir annotatr_1.33.0.tar.gz StartedAt: 2025-02-21 07:32:50 -0500 (Fri, 21 Feb 2025) EndedAt: 2025-02-21 07:33:53 -0500 (Fri, 21 Feb 2025) EllapsedTime: 62.7 seconds RetCode: 0 Status: OK PackageFile: annotatr_1.33.0.zip PackageFileSize: 2.218 MiB