Package: annotatr Version: 1.33.0 Command: rm -rf annotatr.buildbin-libdir && mkdir annotatr.buildbin-libdir && /Users/biocbuild/BBS/utils/build-universal.sh annotatr_1.33.0.tar.gz /Library/Frameworks/R.framework/Resources/bin/R annotatr.buildbin-libdir StartedAt: 2025-02-21 00:19:05 -0500 (Fri, 21 Feb 2025) EndedAt: 2025-02-21 00:20:02 -0500 (Fri, 21 Feb 2025) EllapsedTime: 57.6 seconds RetCode: 0 Status: OK PackageFile: annotatr_1.33.0.tgz PackageFileSize: 2.672 MiB